BEGIN:VCALENDAR
VERSION:2.0
PRODID:-//Jarvis Christian University - ECPv6.13.2.1//NONSGML v1.0//EN
CALSCALE:GREGORIAN
METHOD:PUBLISH
X-WR-CALNAME:Jarvis Christian University
X-ORIGINAL-URL:https://www.jarvis.edu
X-WR-CALDESC:Events for Jarvis Christian University
REFRESH-INTERVAL;VALUE=DURATION:PT1H
X-Robots-Tag:noindex
X-PUBLISHED-TTL:PT1H
BEGIN:VTIMEZONE
TZID:America/Chicago
BEGIN:DAYLIGHT
TZOFFSETFROM:-0600
TZOFFSETTO:-0500
TZNAME:CDT
DTSTART:20250309T080000
END:DAYLIGHT
BEGIN:STANDARD
TZOFFSETFROM:-0500
TZOFFSETTO:-0600
TZNAME:CST
DTSTART:20251102T070000
END:STANDARD
BEGIN:DAYLIGHT
TZOFFSETFROM:-0600
TZOFFSETTO:-0500
TZNAME:CDT
DTSTART:20260308T080000
END:DAYLIGHT
BEGIN:STANDARD
TZOFFSETFROM:-0500
TZOFFSETTO:-0600
TZNAME:CST
DTSTART:20261101T070000
END:STANDARD
END:VTIMEZONE
BEGIN:VEVENT
DTSTART;VALUE=DATE:20260323
DTEND;VALUE=DATE:20260324
DTSTAMP:20260420T231315
CREATED:20260221T033332Z
LAST-MODIFIED:20260221T033332Z
UID:10000036-1774224000-1774310399@www.jarvis.edu
SUMMARY:Last day to withdraw with a “W”
DESCRIPTION:
URL:https://www.jarvis.edu/event/last-day-to-withdraw-with-a-w/
END:VEVENT
BEGIN:VEVENT
DTSTART;TZID=America/Chicago:20260322T100000
DTEND;TZID=America/Chicago:20260322T110000
DTSTAMP:20260420T231315
CREATED:20260221T033724Z
LAST-MODIFIED:20260221T033724Z
UID:10000041-1774173600-1774177200@www.jarvis.edu
SUMMARY:Homecoming Reunion Choir Worship Experience
DESCRIPTION:
URL:https://www.jarvis.edu/event/homecoming-reunion-choir-worship-experience/
END:VEVENT
BEGIN:VEVENT
DTSTART;TZID=America/Chicago:20260321T190000
DTEND;TZID=America/Chicago:20260321T210000
DTSTAMP:20260420T231315
CREATED:20260221T033759Z
LAST-MODIFIED:20260221T033759Z
UID:10000042-1774119600-1774126800@www.jarvis.edu
SUMMARY:Homecoming Greek Step Show
DESCRIPTION:
URL:https://www.jarvis.edu/event/homecoming-greek-step-show/
END:VEVENT
BEGIN:VEVENT
DTSTART;VALUE=DATE:20260321
DTEND;VALUE=DATE:20260322
DTSTAMP:20260420T231315
CREATED:20260221T033536Z
LAST-MODIFIED:20260221T033536Z
UID:10000039-1774051200-1774137599@www.jarvis.edu
SUMMARY:Homecoming Festival
DESCRIPTION:
URL:https://www.jarvis.edu/event/homecoming-festival/
END:VEVENT
BEGIN:VEVENT
DTSTART;TZID=America/Chicago:20260320T180000
DTEND;TZID=America/Chicago:20260320T220000
DTSTAMP:20260420T231315
CREATED:20260221T033632Z
LAST-MODIFIED:20260221T033632Z
UID:10000040-1774029600-1774044000@www.jarvis.edu
SUMMARY:Pioneer Hall of Fame and Preeminence Awards Gala
DESCRIPTION:
URL:https://www.jarvis.edu/event/pioneer-hall-of-fame-and-preeminence-awards-gala/
END:VEVENT
BEGIN:VEVENT
DTSTART;TZID=America/Chicago:20260319T113000
DTEND;TZID=America/Chicago:20260319T120000
DTSTAMP:20260420T231315
CREATED:20260221T033504Z
LAST-MODIFIED:20260221T033504Z
UID:10000038-1773919800-1773921600@www.jarvis.edu
SUMMARY:Dedication of Lester C. Newman Residence Hall
DESCRIPTION:
URL:https://www.jarvis.edu/event/dedication-of-lester-c-newman-residence-hall/
END:VEVENT
BEGIN:VEVENT
DTSTART;TZID=America/Chicago:20260319T100000
DTEND;TZID=America/Chicago:20260319T113000
DTSTAMP:20260420T231315
CREATED:20260221T033425Z
LAST-MODIFIED:20260221T033425Z
UID:10000037-1773914400-1773919800@www.jarvis.edu
SUMMARY:J.N. Ervin Founders Convocation
DESCRIPTION:
URL:https://www.jarvis.edu/event/j-n-ervin-founders-convocation/
END:VEVENT
BEGIN:VEVENT
DTSTART;VALUE=DATE:20260316
DTEND;VALUE=DATE:20260323
DTSTAMP:20260420T231315
CREATED:20260221T033259Z
LAST-MODIFIED:20260221T033259Z
UID:10000035-1773619200-1774223999@www.jarvis.edu
SUMMARY:Founders/ Homecoming Week
DESCRIPTION:
URL:https://www.jarvis.edu/event/founders-homecoming-week/
END:VEVENT
BEGIN:VEVENT
DTSTART;VALUE=DATE:20260316
DTEND;VALUE=DATE:20260317
DTSTAMP:20260420T231315
CREATED:20260221T033232Z
LAST-MODIFIED:20260221T033232Z
UID:10000034-1773619200-1773705599@www.jarvis.edu
SUMMARY:Classes Resume
DESCRIPTION:
URL:https://www.jarvis.edu/event/classes-resume/
END:VEVENT
BEGIN:VEVENT
DTSTART;VALUE=DATE:20260313
DTEND;VALUE=DATE:20260314
DTSTAMP:20260420T231315
CREATED:20260221T032858Z
LAST-MODIFIED:20260221T032858Z
UID:10000027-1773360000-1773446399@www.jarvis.edu
SUMMARY:Last day to apply for Graduation/ Pay Fees (May)
DESCRIPTION:
URL:https://www.jarvis.edu/event/last-day-to-apply-for-graduation-pay-fees-may/
END:VEVENT
BEGIN:VEVENT
DTSTART;VALUE=DATE:20260309
DTEND;VALUE=DATE:20260314
DTSTAMP:20260420T231315
CREATED:20260221T033201Z
LAST-MODIFIED:20260221T033201Z
UID:10000033-1773014400-1773446399@www.jarvis.edu
SUMMARY:Spring Break Starts
DESCRIPTION:
URL:https://www.jarvis.edu/event/spring-break-starts/
END:VEVENT
BEGIN:VEVENT
DTSTART;VALUE=DATE:20260309
DTEND;VALUE=DATE:20260310
DTSTAMP:20260420T231315
CREATED:20260221T033131Z
LAST-MODIFIED:20260221T033131Z
UID:10000032-1773014400-1773100799@www.jarvis.edu
SUMMARY:Mid- Term Grades are Due
DESCRIPTION:
URL:https://www.jarvis.edu/event/mid-term-grades-are-due/
END:VEVENT
BEGIN:VEVENT
DTSTART;VALUE=DATE:20260306
DTEND;VALUE=DATE:20260307
DTSTAMP:20260420T231315
CREATED:20260221T033107Z
LAST-MODIFIED:20260221T033107Z
UID:10000031-1772755200-1772841599@www.jarvis.edu
SUMMARY:Mid-Term Examination Period Ends
DESCRIPTION:
URL:https://www.jarvis.edu/event/mid-term-examination-period-ends/
END:VEVENT
BEGIN:VEVENT
DTSTART;VALUE=DATE:20260302
DTEND;VALUE=DATE:20260303
DTSTAMP:20260420T231315
CREATED:20260221T033044Z
LAST-MODIFIED:20260221T033044Z
UID:10000030-1772409600-1772495999@www.jarvis.edu
SUMMARY:Mid-Term Examination Period Starts
DESCRIPTION:
URL:https://www.jarvis.edu/event/mid-term-examination-period-starts/
END:VEVENT
BEGIN:VEVENT
DTSTART;VALUE=DATE:20260223
DTEND;VALUE=DATE:20260224
DTSTAMP:20260420T231315
CREATED:20260221T033010Z
LAST-MODIFIED:20260221T033010Z
UID:10000029-1771804800-1771891199@www.jarvis.edu
SUMMARY:Early Registration for Summer and Fall 2026 Begins
DESCRIPTION:
URL:https://www.jarvis.edu/event/early-registration-for-summer-and-fall-2026-begins/
END:VEVENT
BEGIN:VEVENT
DTSTART;TZID=America/Chicago:20260210T110000
DTEND;TZID=America/Chicago:20260210T120000
DTSTAMP:20260420T231315
CREATED:20260221T032932Z
LAST-MODIFIED:20260221T032932Z
UID:10000028-1770721200-1770724800@www.jarvis.edu
SUMMARY:Black History Convocation
DESCRIPTION:
URL:https://www.jarvis.edu/event/black-history-convocation/
END:VEVENT
BEGIN:VEVENT
DTSTART;VALUE=DATE:20260119
DTEND;VALUE=DATE:20260120
DTSTAMP:20260420T231315
CREATED:20260221T032822Z
LAST-MODIFIED:20260221T032822Z
UID:10000026-1768780800-1768867199@www.jarvis.edu
SUMMARY:MLK Holiday (University Closed)
DESCRIPTION:
URL:https://www.jarvis.edu/event/mlk-holiday-university-closed/
END:VEVENT
BEGIN:VEVENT
DTSTART;TZID=America/Chicago:20260117T080000
DTEND;TZID=America/Chicago:20260117T093000
DTSTAMP:20260420T231315
CREATED:20260221T032756Z
LAST-MODIFIED:20260221T032756Z
UID:10000025-1768636800-1768642200@www.jarvis.edu
SUMMARY:MLK Unity In the CommUnity Prayer Breakfast
DESCRIPTION:
URL:https://www.jarvis.edu/event/mlk-unity-in-the-community-prayer-breakfast/
END:VEVENT
BEGIN:VEVENT
DTSTART;VALUE=DATE:20260112
DTEND;VALUE=DATE:20260113
DTSTAMP:20260420T231315
CREATED:20260221T032715Z
LAST-MODIFIED:20260221T032715Z
UID:10000024-1768176000-1768262399@www.jarvis.edu
SUMMARY:Classes Begin
DESCRIPTION:
URL:https://www.jarvis.edu/event/classes-begin-2/
END:VEVENT
BEGIN:VEVENT
DTSTART;VALUE=DATE:20260110
DTEND;VALUE=DATE:20260111
DTSTAMP:20260420T231315
CREATED:20260221T032636Z
LAST-MODIFIED:20260221T032636Z
UID:10000023-1768003200-1768089599@www.jarvis.edu
SUMMARY:New/Returning Students Arrival Begins
DESCRIPTION:
URL:https://www.jarvis.edu/event/new-returning-students-arrival-begins/
END:VEVENT
BEGIN:VEVENT
DTSTART;TZID=America/Chicago:20260105T080000
DTEND;TZID=America/Chicago:20260105T170000
DTSTAMP:20260420T231315
CREATED:20260221T032541Z
LAST-MODIFIED:20260221T032541Z
UID:10000022-1767600000-1767632400@www.jarvis.edu
SUMMARY:Faculty and Staff Institute
DESCRIPTION:
URL:https://www.jarvis.edu/event/faculty-and-staff-institute-2/
END:VEVENT
BEGIN:VEVENT
DTSTART;VALUE=DATE:20260101
DTEND;VALUE=DATE:20260102
DTSTAMP:20260420T231315
CREATED:20260221T032505Z
LAST-MODIFIED:20260221T032606Z
UID:10000021-1767225600-1767311999@www.jarvis.edu
SUMMARY:New Year's Day (University Closed)
DESCRIPTION:
URL:https://www.jarvis.edu/event/new-years-day-university-closed/
END:VEVENT
BEGIN:VEVENT
DTSTART;TZID=America/Chicago:20251007T110000
DTEND;TZID=America/Chicago:20251007T120000
DTSTAMP:20260420T231315
CREATED:20250729T204542Z
LAST-MODIFIED:20250729T204542Z
UID:10000019-1759834800-1759838400@www.jarvis.edu
SUMMARY:Fall Convocation
DESCRIPTION:
URL:https://www.jarvis.edu/event/fall-convocation/
END:VEVENT
BEGIN:VEVENT
DTSTART;VALUE=DATE:20251006
DTEND;VALUE=DATE:20251013
DTSTAMP:20260420T231315
CREATED:20250729T204658Z
LAST-MODIFIED:20250729T204658Z
UID:10000020-1759708800-1760313599@www.jarvis.edu
SUMMARY:Jarvis Fest
DESCRIPTION:
URL:https://www.jarvis.edu/event/jarvis-fest/
END:VEVENT
BEGIN:VEVENT
DTSTART;VALUE=DATE:20251006
DTEND;VALUE=DATE:20251011
DTSTAMP:20260420T231315
CREATED:20250729T204437Z
LAST-MODIFIED:20250729T204454Z
UID:10000018-1759708800-1760140799@www.jarvis.edu
SUMMARY:Mid-Term Week
DESCRIPTION:
URL:https://www.jarvis.edu/event/mid-terms-start/
END:VEVENT
BEGIN:VEVENT
DTSTART;VALUE=DATE:20250926
DTEND;VALUE=DATE:20250927
DTSTAMP:20260420T231315
CREATED:20250729T204405Z
LAST-MODIFIED:20250729T204405Z
UID:10000017-1758844800-1758931199@www.jarvis.edu
SUMMARY:Initial Recommendation - Graduation from Advisors Due
DESCRIPTION:
URL:https://www.jarvis.edu/event/initial-recommendation-graduation-from-advisors-due/
END:VEVENT
BEGIN:VEVENT
DTSTART;VALUE=DATE:20250923
DTEND;VALUE=DATE:20250924
DTSTAMP:20260420T231315
CREATED:20250729T204323Z
LAST-MODIFIED:20250729T204323Z
UID:10000016-1758585600-1758671999@www.jarvis.edu
SUMMARY:Initial Date to Apply for Graduation
DESCRIPTION:
URL:https://www.jarvis.edu/event/initial-date-to-apply-for-graduation/
END:VEVENT
BEGIN:VEVENT
DTSTART;VALUE=DATE:20250922
DTEND;VALUE=DATE:20250923
DTSTAMP:20260420T231315
CREATED:20250729T204219Z
LAST-MODIFIED:20250729T204219Z
UID:10000015-1758499200-1758585599@www.jarvis.edu
SUMMARY:Early Registration Spring 2026 Begins
DESCRIPTION:
URL:https://www.jarvis.edu/event/early-registration-spring-2026-begins/
END:VEVENT
BEGIN:VEVENT
DTSTART;VALUE=DATE:20250902
DTEND;VALUE=DATE:20250903
DTSTAMP:20260420T231315
CREATED:20250729T204128Z
LAST-MODIFIED:20250729T204128Z
UID:10000014-1756771200-1756857599@www.jarvis.edu
SUMMARY:Constitution Day
DESCRIPTION:
URL:https://www.jarvis.edu/event/constitution-day/
END:VEVENT
BEGIN:VEVENT
DTSTART;VALUE=DATE:20250901
DTEND;VALUE=DATE:20250902
DTSTAMP:20260420T231315
CREATED:20250729T204053Z
LAST-MODIFIED:20250729T204053Z
UID:10000013-1756684800-1756771199@www.jarvis.edu
SUMMARY:Labor Day
DESCRIPTION:
URL:https://www.jarvis.edu/event/labor-day/
END:VEVENT
END:VCALENDAR