BEGIN:VCALENDAR
VERSION:2.0
PRODID:-//Jarvis Christian University - ECPv6.13.2.1//NONSGML v1.0//EN
CALSCALE:GREGORIAN
METHOD:PUBLISH
X-ORIGINAL-URL:https://www.jarvis.edu
X-WR-CALDESC:Events for Jarvis Christian University
REFRESH-INTERVAL;VALUE=DURATION:PT1H
X-Robots-Tag:noindex
X-PUBLISHED-TTL:PT1H
BEGIN:VTIMEZONE
TZID:America/Chicago
BEGIN:DAYLIGHT
TZOFFSETFROM:-0600
TZOFFSETTO:-0500
TZNAME:CDT
DTSTART:20250309T080000
END:DAYLIGHT
BEGIN:STANDARD
TZOFFSETFROM:-0500
TZOFFSETTO:-0600
TZNAME:CST
DTSTART:20251102T070000
END:STANDARD
END:VTIMEZONE
BEGIN:VEVENT
DTSTART;VALUE=DATE:20251006
DTEND;VALUE=DATE:20251011
DTSTAMP:20260421T020334
CREATED:20250729T204437Z
LAST-MODIFIED:20250729T204454Z
UID:10000018-1759708800-1760140799@www.jarvis.edu
SUMMARY:Mid-Term Week
DESCRIPTION:
URL:https://www.jarvis.edu/event/mid-terms-start/
END:VEVENT
BEGIN:VEVENT
DTSTART;VALUE=DATE:20250926
DTEND;VALUE=DATE:20250927
DTSTAMP:20260421T020334
CREATED:20250729T204405Z
LAST-MODIFIED:20250729T204405Z
UID:10000017-1758844800-1758931199@www.jarvis.edu
SUMMARY:Initial Recommendation - Graduation from Advisors Due
DESCRIPTION:
URL:https://www.jarvis.edu/event/initial-recommendation-graduation-from-advisors-due/
END:VEVENT
BEGIN:VEVENT
DTSTART;VALUE=DATE:20250923
DTEND;VALUE=DATE:20250924
DTSTAMP:20260421T020334
CREATED:20250729T204323Z
LAST-MODIFIED:20250729T204323Z
UID:10000016-1758585600-1758671999@www.jarvis.edu
SUMMARY:Initial Date to Apply for Graduation
DESCRIPTION:
URL:https://www.jarvis.edu/event/initial-date-to-apply-for-graduation/
END:VEVENT
BEGIN:VEVENT
DTSTART;VALUE=DATE:20250922
DTEND;VALUE=DATE:20250923
DTSTAMP:20260421T020334
CREATED:20250729T204219Z
LAST-MODIFIED:20250729T204219Z
UID:10000015-1758499200-1758585599@www.jarvis.edu
SUMMARY:Early Registration Spring 2026 Begins
DESCRIPTION:
URL:https://www.jarvis.edu/event/early-registration-spring-2026-begins/
END:VEVENT
BEGIN:VEVENT
DTSTART;VALUE=DATE:20250902
DTEND;VALUE=DATE:20250903
DTSTAMP:20260421T020334
CREATED:20250729T204128Z
LAST-MODIFIED:20250729T204128Z
UID:10000014-1756771200-1756857599@www.jarvis.edu
SUMMARY:Constitution Day
DESCRIPTION:
URL:https://www.jarvis.edu/event/constitution-day/
END:VEVENT
BEGIN:VEVENT
DTSTART;VALUE=DATE:20250901
DTEND;VALUE=DATE:20250902
DTSTAMP:20260421T020334
CREATED:20250729T204053Z
LAST-MODIFIED:20250729T204053Z
UID:10000013-1756684800-1756771199@www.jarvis.edu
SUMMARY:Labor Day
DESCRIPTION:
URL:https://www.jarvis.edu/event/labor-day/
END:VEVENT
BEGIN:VEVENT
DTSTART;TZID=America/Chicago:20250826T080000
DTEND;TZID=America/Chicago:20250826T170000
DTSTAMP:20260421T020334
CREATED:20250729T204015Z
LAST-MODIFIED:20250729T204015Z
UID:10000012-1756195200-1756227600@www.jarvis.edu
SUMMARY:12th Class Day / Add and Drop Ends (Census Date)
DESCRIPTION:
URL:https://www.jarvis.edu/event/12th-class-day-add-and-drop-ends-census-date/
END:VEVENT
BEGIN:VEVENT
DTSTART;VALUE=DATE:20250811
DTEND;VALUE=DATE:20250812
DTSTAMP:20260421T020334
CREATED:20250729T203921Z
LAST-MODIFIED:20250729T203921Z
UID:10000011-1754870400-1754956799@www.jarvis.edu
SUMMARY:Classes Begin
DESCRIPTION:
URL:https://www.jarvis.edu/event/classes-begin/
END:VEVENT
BEGIN:VEVENT
DTSTART;VALUE=DATE:20250808
DTEND;VALUE=DATE:20250811
DTSTAMP:20260421T020334
CREATED:20250729T203813Z
LAST-MODIFIED:20250729T203813Z
UID:10000010-1754611200-1754870399@www.jarvis.edu
SUMMARY:Welcome Back Weekend
DESCRIPTION:
URL:https://www.jarvis.edu/event/welcome-back-weekend/
END:VEVENT
BEGIN:VEVENT
DTSTART;TZID=America/Chicago:20250807T080000
DTEND;TZID=America/Chicago:20250807T170000
DTSTAMP:20260421T020334
CREATED:20250729T203717Z
LAST-MODIFIED:20250729T203717Z
UID:10000009-1754553600-1754586000@www.jarvis.edu
SUMMARY:Returning Student Registration Starts
DESCRIPTION:
URL:https://www.jarvis.edu/event/returning-student-registration-starts/
END:VEVENT
BEGIN:VEVENT
DTSTART;VALUE=DATE:20250807
DTEND;VALUE=DATE:20250808
DTSTAMP:20260421T020334
CREATED:20250729T203637Z
LAST-MODIFIED:20250729T203637Z
UID:10000008-1754524800-1754611199@www.jarvis.edu
SUMMARY:Fall Assessment Roundup
DESCRIPTION:
URL:https://www.jarvis.edu/event/fall-assessment-roundup/
END:VEVENT
BEGIN:VEVENT
DTSTART;VALUE=DATE:20250802
DTEND;VALUE=DATE:20250803
DTSTAMP:20260421T020334
CREATED:20250729T203553Z
LAST-MODIFIED:20250729T203553Z
UID:10000007-1754092800-1754179199@www.jarvis.edu
SUMMARY:New Student Registration\, Parent Orientation & Parting Ceremony
DESCRIPTION:
URL:https://www.jarvis.edu/event/new-student-registration-parent-orientation-parting-ceremony/
END:VEVENT
BEGIN:VEVENT
DTSTART;TZID=America/Chicago:20250801T080000
DTEND;TZID=America/Chicago:20250801T170000
DTSTAMP:20260421T020334
CREATED:20250729T201654Z
LAST-MODIFIED:20250729T201654Z
UID:10000006-1754035200-1754067600@www.jarvis.edu
SUMMARY:Faculty and Staff Institute
DESCRIPTION:
URL:https://www.jarvis.edu/event/faculty-and-staff-institute/
END:VEVENT
BEGIN:VEVENT
DTSTART;VALUE=DATE:20250731
DTEND;VALUE=DATE:20250801
DTSTAMP:20260421T020334
CREATED:20250729T201350Z
LAST-MODIFIED:20250729T201350Z
UID:10000005-1753920000-1754006399@www.jarvis.edu
SUMMARY:Faculty Return / Department and Division Meeting
DESCRIPTION:
URL:https://www.jarvis.edu/event/faculty-return-department-and-division-meeting/
END:VEVENT
BEGIN:VEVENT
DTSTART;TZID=America/Chicago:20250724T080000
DTEND;TZID=America/Chicago:20250724T170000
DTSTAMP:20260421T020334
CREATED:20250619T205711Z
LAST-MODIFIED:20250619T205812Z
UID:10000004-1753344000-1753376400@www.jarvis.edu
SUMMARY:Last Day of Class for Summer I Traditional
DESCRIPTION:The last day of classes for Summer I at Jarvis Christian University signifies the successful completion of an intensive and rewarding academic session. Students celebrate their hard work and achievements\, having gained valuable knowledge and skills in a condensed time frame. This milestone reflects JCU’s dedication to providing flexible\, high-quality education that empowers students to stay on track and excel in their academic and professional pursuits
URL:https://www.jarvis.edu/event/last-day-of-class-for-summer-i-traditional/
END:VEVENT
BEGIN:VEVENT
DTSTART;VALUE=DATE:20250714
DTEND;VALUE=DATE:20250715
DTSTAMP:20260421T020334
CREATED:20250619T201942Z
LAST-MODIFIED:20250619T201942Z
UID:10000002-1752451200-1752537599@www.jarvis.edu
SUMMARY:Last Day of Class for Summer II Traditional
DESCRIPTION:The last day of classes for Summer II at Jarvis Christian University signifies the successful completion of an intensive and rewarding academic session. Students celebrate their hard work and achievements\, having gained valuable knowledge and skills in a condensed time frame. This milestone reflects JCU’s dedication to providing flexible\, high-quality education that empowers students to stay on track and excel in their academic and professional pursuits.
URL:https://www.jarvis.edu/event/last-day-of-class-for-summer-ii-traditional/
END:VEVENT
BEGIN:VEVENT
DTSTART;VALUE=DATE:20250616
DTEND;VALUE=DATE:20250617
DTSTAMP:20260421T020334
CREATED:20250819T205637Z
LAST-MODIFIED:20250619T205837Z
UID:10000003-1750032000-1750118399@www.jarvis.edu
SUMMARY:Summer II Traditional Begins
DESCRIPTION:The first day of classes for Summer II at Jarvis Christian University marks the beginning of an accelerated and enriching academic session. Students embark on a focused journey of learning and achievement\, engaging with dynamic coursework and dedicated faculty in a supportive environment. This pivotal day sets the stage for academic progress and success\, reflecting JCU’s commitment to empowering students through innovative and accessible education.
URL:https://www.jarvis.edu/event/summer-ii-traditional-begins/
END:VEVENT
END:VCALENDAR